BEGIN:VCALENDAR
VERSION:2.0
PRODID:-//wp-events-plugin.com//7.2.3.1//EN
BEGIN:VEVENT
UID:55@rfv-freising.de
DTSTART;VALUE=DATE:20220825
DTEND;VALUE=DATE:20220829
DTSTAMP:20220318T151250Z
URL:https://www.rfv-freising.de/veranstaltungen/reitcamp-mit-uebernachtung
 /
SUMMARY:Reitcamp mit Übernachtung
DESCRIPTION:\n\nReitcamp 25.-28. August 2022\n\nDas Camp findet unter der L
 eitung von Christina Ponath und Anna-Lena Pflügler statt.\n\nTermin:   
 Do 25.08.2022 bis So 28.08.2022 Ankunft: 10 Uhr\; Abholen: 14 Uhr\n\n \n\
 nFür wen:   Kinder im Alter von 7 bis 15 Jahren\n\n \n\nKosten:    2
 40 € (200 € mit eigenem Pferd)\n\nWas wird geboten?\n\n 	Reiten\, Pfer
 de pflegen\, Stallarbeit\n 	Gemeinsames Kochen\, Lagerfeuer\n 	Spiele\, Na
 chtwanderung\, „Basteln“\n 	und vieles mehr...  Lasst Euch überrasc
 hen!\n\n&nbsp\;\n\nGenauere Informationen und eine Packliste werden wir de
 n Teilnehmern per E-Mail zukommen lassen.\n\nVorrausetzung für die Teilna
 hme am Kurs ist die Mitgliedschaft im Reit- und Fahrverein Freising e.V.\n
 Es kann eine Kurzmitgliedschaft (10€ für Kinder) für die Dauer des Kur
 ses abgeschlossen werden. Ein gesondertes Formular hierfür ist beim Kursl
 eiter erhältlich.\n\nDer Kurs ist auf 22 Teilnehmer begrenzt.\nHinweis: B
 itte gib im Kommentarfeld das Alter des Teilnehmers mit an.\n Wir freuen 
 uns auf Deine Anmeldung!    \n&nbsp\;\n\n&nbsp\;\n\n&nbsp\;
CATEGORIES:Sommerferien
END:VEVENT
END:VCALENDAR