BEGIN:VCALENDAR
VERSION:2.0
PRODID:-//wp-events-plugin.com//7.2.3.1//EN
BEGIN:VEVENT
UID:13@rfv-freising.de
DTSTART:20191028T080000Z
DTEND:20191031T123000Z
DTSTAMP:20190701T102146Z
URL:https://www.rfv-freising.de/veranstaltungen/einsteigerkurs-herbst-2/
SUMMARY:Einsteigerkurs Herbst
DESCRIPTION:\n\nEinsteigerkurs Herbst\n\nDer Kurs findet unter der Leitung 
 von Felicitas Straub statt.\n\nDieser Kurs wird speziell auf die im Kurs t
 eilnehmenden Kinder abgestimmt und ist explizit für Einsteiger gedacht\, 
 die hier spielerisch an den Umgang mit dem Pferd herangeführt werden und 
 die Grundlagen in Pferdepflege und Reiten erlernen.\n\nDer Kurs spricht Ki
 nder im Alter von 5 bis 12 Jahren an. Die Teilnehmer erhalten täglich Rei
 tunterricht\, sowie Unterricht in Theorie und Pferdepflege. Außerdem find
 en Unterricht an der Longe\, sowie Spiel und Spaß rund ums Pferd statt.\n
 \nVorrausetzung für die Teilnahme am Kurs ist die Mitgliedschaft im Reit-
  und Fahrverein Freising e.V. Es kann eine Kurzmitgliedschaft (10€ für 
 Kinder) für die Dauer des Kurses abgeschlossen werden.\n\nDer Kurs findet
  ab einer Teilnehmerzahl von 8 Personen statt und ist auf 18 Teilnehmer be
 grenzt.\n\nHinweis: Bitte gib im Kommentarfeld das Alter des Teilnehmers m
 it an.\n\nWir freuen uns auf Deine Anmeldung!    \n\n&nbsp\;\n\n&nbsp\
 ;\n\n&nbsp\;
CATEGORIES:Pfingstferien
END:VEVENT
END:VCALENDAR