BEGIN:VCALENDAR
VERSION:2.0
PRODID:-//wp-events-plugin.com//7.2.3.1//EN
BEGIN:VEVENT
UID:15@rfv-freising.de
DTSTART:20190827T080000Z
DTEND:20190906T100000Z
DTSTAMP:20190126T184429Z
URL:https://www.rfv-freising.de/veranstaltungen/basispasskurs-2/
SUMMARY:Basispasskurs
DESCRIPTION:\n\nBasispasskurs\n\nDer Kurs findet unter der Leitung von Ange
 la Struck und Laura Lutz/Christina Ring statt.\n\nDie Teilnehmer werden in
  diesem Kurs speziell auf die anschließende Abnahme der Abzeichen vorber
 eitet. Die Prüfung findet am letzten Kurstag (06.09.2019) statt.\n\nZusä
 tzlich zur Kursgebühr fällt außerdem eine Prüfungsgebühr an\, die bar
  beim Kursleiter bezahlt wird: Basispass: 30\,00 €\n\nVorausetzung für 
 die Teilnahme am Kurs ist die Mitgliedschaft im Reit- und Fahrverein Freis
 ing e.V. Es kann eine Kurzmitgliedschaft (10€ für Kinder) für die Daue
 r des Kurses abgeschlossen werden.\n\nHinweis: für das Kombi-Angebot mit 
 Reitabzeichen\, melde Dich bitte über den Reitabzeichenkurs an.\nWir freu
 en uns auf Deine Anmeldung!\n&nbsp\;\n\n&nbsp\;\n\n&nbsp\;\n\n\n\n&nbsp\;\
 n\n&nbsp\;\n\n&nbsp\;\n\n&nbsp\;\n\n&nbsp\;\n\n&nbsp\;\n\n&nbsp\;\n\n&nbsp
 \;\n\nPrüfungsliteratur:\n\nBasispass Pferdekunde\nISBN 978-3-88542-797-1
 \n\n&nbsp\;\n\n&nbsp\;
END:VEVENT
END:VCALENDAR